BEGIN:VCALENDAR
VERSION:2.0
PRODID:-//Moss Brook Fiber Arts - ECPv6.15.17.1//NONSGML v1.0//EN
CALSCALE:GREGORIAN
METHOD:PUBLISH
X-WR-CALNAME:Moss Brook Fiber Arts
X-ORIGINAL-URL:https://mossbrookfiberarts.com
X-WR-CALDESC:Events for Moss Brook Fiber Arts
REFRESH-INTERVAL;VALUE=DURATION:PT1H
X-Robots-Tag:noindex
X-PUBLISHED-TTL:PT1H
BEGIN:VTIMEZONE
TZID:America/New_York
BEGIN:DAYLIGHT
TZOFFSETFROM:-0500
TZOFFSETTO:-0400
TZNAME:EDT
DTSTART:20170312T070000
END:DAYLIGHT
BEGIN:STANDARD
TZOFFSETFROM:-0400
TZOFFSETTO:-0500
TZNAME:EST
DTSTART:20171105T060000
END:STANDARD
BEGIN:DAYLIGHT
TZOFFSETFROM:-0500
TZOFFSETTO:-0400
TZNAME:EDT
DTSTART:20180311T070000
END:DAYLIGHT
BEGIN:STANDARD
TZOFFSETFROM:-0400
TZOFFSETTO:-0500
TZNAME:EST
DTSTART:20181104T060000
END:STANDARD
BEGIN:DAYLIGHT
TZOFFSETFROM:-0500
TZOFFSETTO:-0400
TZNAME:EDT
DTSTART:20190310T070000
END:DAYLIGHT
BEGIN:STANDARD
TZOFFSETFROM:-0400
TZOFFSETTO:-0500
TZNAME:EST
DTSTART:20191103T060000
END:STANDARD
END:VTIMEZONE
BEGIN:VEVENT
DTSTART;TZID=America/New_York:20181027T100000
DTEND;TZID=America/New_York:20181027T120000
DTSTAMP:20260419T204213
CREATED:20180908T162802Z
LAST-MODIFIED:20181017T151428Z
UID:143-1540634400-1540641600@mossbrookfiberarts.com
SUMMARY:Holiday Knitting and Crochet Techniques
DESCRIPTION:What technique do you want to learn to create your holiday projects?  Want to do stranding or intarsia on a holiday stocking or ornament?  Knit a cabled sweater?  Make a granny square stocking? Bring your ideas\, yarn\, needles and hooks\, and patterns if you have them\, and I’ll share the techniques you need to succeed. \n  \nPlease note that clicking this button will take you to the Yarn and Soul website to checkout.\n\n \nSaveSave
URL:https://mossbrookfiberarts.com/class/knit-with-a-teacher-8/
LOCATION:Chelmsford Center for the Arts\, 1A North Rd\, Chelmsford\, MA\, 01824
END:VEVENT
BEGIN:VEVENT
DTSTART;TZID=America/New_York:20181027T130000
DTEND;TZID=America/New_York:20181027T150000
DTSTAMP:20260419T204213
CREATED:20180828T120022Z
LAST-MODIFIED:20181017T155907Z
UID:136-1540645200-1540652400@mossbrookfiberarts.com
SUMMARY:Let's Knit Socks! Class 1
DESCRIPTION:Second class on 11/17\, 1:00-3:00 \nChelmsford Center for the Arts\, 1A North Rd\nChelmsford\, MA 01824\n$40 for 2 sessions\n\nWe will begin with a miniature sock\, perfect for decoration or as the first half of a baby gift.  You’ll learn how to make a heel flap\, turn a heel\, and pick up gusset stitches.  At the second session\, you will learn to finish the toe with kitchener stitch.  You can use your preferred method for knitting small circumferences: double pointed needles\, two circular needles\, or magic loop. For the first class\, you will need to bring worsted weight yarn\, needles to match your yarn\, and a yarn needle.  For the second class you can bring the particular pattern you would like to knit next and we’ll talk about other sock knitting methods\, such as toe up and short row heels and get you started with your next sock. \n\nPlease note that clicking this button will take you to the Yarn and Soul website to checkout.
URL:https://mossbrookfiberarts.com/class/knit-with-a-teacher-6/
END:VEVENT
END:VCALENDAR